BEGIN:VCALENDAR
VERSION:2.0
PRODID:-//hacksw/handcal//NONSGML v1.0//EN
BEGIN:VEVENT
SUMMARY:vide grenier
UID:c5bbebbe-e748-42a1-bd45-3f4d18d9a553
DTSTART:20260614T083000Z
DTEND:20260614T133000Z
LOCATION:Siege mairie 38250 Correncon en vercors
CATEGORIES:Manifestation
STATUS:
DESCRIPTION:<p>Vide Grenier organise conjointement par l'OT de
 Correncon en Vercors et le Club des Sports qui tiendra la buvette
 (besoin de benevoles).</p>
URL;VALUE=URI:https://www.cscorrencon.com/evenements/2026/06/14/vide-grenier-2439338
END:VEVENT
BEGIN:VEVENT
SUMMARY:Correncon en Fete
UID:259a618c-bbed-4d24-9272-14e579804228
DTSTART:20260802T060000Z
DTEND:20260802T180000Z
LOCATION:Localisation   
CATEGORIES:Manifestation
STATUS:
URL;VALUE=URI:https://www.cscorrencon.com/evenements/2026/08/02/correncon-en-fete-2439343
END:VEVENT
END:VCALENDAR
